BEGIN:VCALENDAR
VERSION:2.0
PRODID:www.bbsautomation.com
BEGIN:VEVENT
UID:69ed2f92ba9ba
DTSTART;VALUE=DATE:20261214
SEQUENCE:0
TRANSP:OPAQUE
DTEND;VALUE=DATE:20261216
LOCATION:Riad / Saudi-Arabien
SUMMARY:CPHI Middle East
CLASS:PUBLIC
DESCRIPTION:Treffen Sie uns gemeinsam mit unserem Partner \"Best Innovation
 \" am Stand H2.E29
X-MICROSOFT-CDO-ALLDAYEVENT:TRUE
DTSTAMP:20260425T211810Z
END:VEVENT
END:VCALENDAR