BEGIN:VCALENDAR
VERSION:2.0
PRODID:www.bbsautomation.com
BEGIN:VEVENT
UID:69e76dbd4c61e
DTSTART;VALUE=DATE:20260421
SEQUENCE:0
TRANSP:OPAQUE
DTEND;VALUE=DATE:20260423
LOCATION:Algeria / Algeria
SUMMARY:MAGHREB PHARMA Expo
CLASS:PUBLIC
DESCRIPTION:Visit us on our partner booth 105A from \"Best Innovation\"
X-MICROSOFT-CDO-ALLDAYEVENT:TRUE
DTSTAMP:20260421T122949Z
END:VEVENT
END:VCALENDAR